BEGIN:VCALENDAR
VERSION:2.0
PRODID:-//Nicandri Nature Center - ECPv5.7.0//NONSGML v1.0//EN
CALSCALE:GREGORIAN
METHOD:PUBLISH
X-WR-CALNAME:Nicandri Nature Center
X-ORIGINAL-URL:https://www.massenanaturecenter.com
X-WR-CALDESC:Events for Nicandri Nature Center
BEGIN:VTIMEZONE
TZID:UTC
BEGIN:STANDARD
TZOFFSETFROM:+0000
TZOFFSETTO:+0000
TZNAME:UTC
DTSTART:20250101T000000
END:STANDARD
END:VTIMEZONE
BEGIN:VEVENT
DTSTART;TZID=UTC:20250523T100000
DTEND;TZID=UTC:20250523T140000
DTSTAMP:20260424T124106
CREATED:20250430T165348Z
LAST-MODIFIED:20250430T165348Z
UID:17723-1747994400-1748008800@www.massenanaturecenter.com
SUMMARY:World Turtle Day Programming
DESCRIPTION:St. Regis Mohawk Tribe Environment Division\, the New York State Department of Environmental Conservation\, and the Nicandri Nature Center will be hosting a World Turtle Day event at the Nicandri Nature Center. There will be display booths and information\, presentations\, fun family activities and more. \n10-2 Turtle coloring sheets\, turtle themed scavenger hunt\, craft station\, exhibit booths \n10 am – Turtles of New York – learn about the wide variety of species that call northern New York home and meet some live turtles \n11am – Turtle Craft – join in some fun turtle craft projects and learn more about what makes a turtle a turtle \n12:15 pm Jessica Jock\, Remediation and Restoration Program Manager at St. Regis Mohawk Tribe Environment Division will speak on “Contamination in Turtles in the Area of Concern”
URL:https://www.massenanaturecenter.com/event/world-turtle-day-programming/
LOCATION:Massena Nature Center\, 19 Robinson Bay Rd.\, Massena\, NY\, 13662\, United States
END:VEVENT
END:VCALENDAR