BEGIN:VCALENDAR
VERSION:2.0
PRODID:-//Nicandri Nature Center - ECPv5.7.0//NONSGML v1.0//EN
CALSCALE:GREGORIAN
METHOD:PUBLISH
X-WR-CALNAME:Nicandri Nature Center
X-ORIGINAL-URL:https://www.massenanaturecenter.com
X-WR-CALDESC:Events for Nicandri Nature Center
BEGIN:VTIMEZONE
TZID:UTC
BEGIN:STANDARD
TZOFFSETFROM:+0000
TZOFFSETTO:+0000
TZNAME:UTC
DTSTART:20250101T000000
END:STANDARD
END:VTIMEZONE
BEGIN:VEVENT
DTSTART;TZID=UTC:20250713T100000
DTEND;TZID=UTC:20250713T110000
DTSTAMP:20260424T142119
CREATED:20250625T175626Z
LAST-MODIFIED:20250625T175626Z
UID:17959-1752400800-1752404400@www.massenanaturecenter.com
SUMMARY:Trail Quest
DESCRIPTION:A trail walk with a twist\, choose your own adventure meets Oregon Trail Fun for all ages\, led by park staff
URL:https://www.massenanaturecenter.com/event/trail-quest/
LOCATION:Massena Nature Center\, 19 Robinson Bay Rd.\, Massena\, NY\, 13662\, United States
END:VEVENT
END:VCALENDAR