BEGIN:VCALENDAR
VERSION:2.0
PRODID:-//Nicandri Nature Center - ECPv5.7.0//NONSGML v1.0//EN
CALSCALE:GREGORIAN
METHOD:PUBLISH
X-WR-CALNAME:Nicandri Nature Center
X-ORIGINAL-URL:https://www.massenanaturecenter.com
X-WR-CALDESC:Events for Nicandri Nature Center
BEGIN:VTIMEZONE
TZID:UTC
BEGIN:STANDARD
TZOFFSETFROM:+0000
TZOFFSETTO:+0000
TZNAME:UTC
DTSTART:20250101T000000
END:STANDARD
END:VTIMEZONE
BEGIN:VEVENT
DTSTART;TZID=UTC:20250609T153000
DTEND;TZID=UTC:20250609T163000
DTSTAMP:20260424T082920
CREATED:20250530T171932Z
LAST-MODIFIED:20250530T171932Z
UID:17785-1749483000-1749486600@www.massenanaturecenter.com
SUMMARY:Spidey Senses Spider Program
DESCRIPTION:
URL:https://www.massenanaturecenter.com/event/spidey-senses-spider-program/
LOCATION:Massena Nature Center\, 19 Robinson Bay Rd.\, Massena\, NY\, 13662\, United States
END:VEVENT
END:VCALENDAR