BEGIN:VCALENDAR
VERSION:2.0
PRODID:-//Nicandri Nature Center - ECPv5.7.0//NONSGML v1.0//EN
CALSCALE:GREGORIAN
METHOD:PUBLISH
X-WR-CALNAME:Nicandri Nature Center
X-ORIGINAL-URL:https://www.massenanaturecenter.com
X-WR-CALDESC:Events for Nicandri Nature Center
BEGIN:VTIMEZONE
TZID:UTC
BEGIN:STANDARD
TZOFFSETFROM:+0000
TZOFFSETTO:+0000
TZNAME:UTC
DTSTART:20250101T000000
END:STANDARD
END:VTIMEZONE
BEGIN:VEVENT
DTSTART;TZID=UTC:20250720T093000
DTEND;TZID=UTC:20250720T110000
DTSTAMP:20260424T100349
CREATED:20250625T184205Z
LAST-MODIFIED:20250625T184205Z
UID:17998-1753003800-1753009200@www.massenanaturecenter.com
SUMMARY:Programs in the Park\, Coles Creek Trail trek
DESCRIPTION:How to get into hiking\, play trail games and make a mini first aid kit
URL:https://www.massenanaturecenter.com/event/programs-in-the-park-coles-creek-trail-trek/
LOCATION:Massena Nature Center\, 19 Robinson Bay Rd.\, Massena\, NY\, 13662\, United States
END:VEVENT
END:VCALENDAR