BEGIN:VCALENDAR
VERSION:2.0
PRODID:-//Nicandri Nature Center - ECPv5.7.0//NONSGML v1.0//EN
CALSCALE:GREGORIAN
METHOD:PUBLISH
X-WR-CALNAME:Nicandri Nature Center
X-ORIGINAL-URL:https://www.massenanaturecenter.com
X-WR-CALDESC:Events for Nicandri Nature Center
BEGIN:VTIMEZONE
TZID:UTC
BEGIN:STANDARD
TZOFFSETFROM:+0000
TZOFFSETTO:+0000
TZNAME:UTC
DTSTART:20250101T000000
END:STANDARD
END:VTIMEZONE
BEGIN:VEVENT
DTSTART;TZID=UTC:20250518T140000
DTEND;TZID=UTC:20250518T150000
DTSTAMP:20260424T101953
CREATED:20250430T163105Z
LAST-MODIFIED:20250430T163105Z
UID:17715-1747576800-1747580400@www.massenanaturecenter.com
SUMMARY:Paver Owl (adult craft\, pre-registration required)
DESCRIPTION:
URL:https://www.massenanaturecenter.com/event/paver-owl-adult-craft-pre-registration-required/
LOCATION:Massena Nature Center\, 19 Robinson Bay Rd.\, Massena\, NY\, 13662\, United States
END:VEVENT
END:VCALENDAR