BEGIN:VCALENDAR
VERSION:2.0
PRODID:-//Nicandri Nature Center - ECPv5.7.0//NONSGML v1.0//EN
CALSCALE:GREGORIAN
METHOD:PUBLISH
X-WR-CALNAME:Nicandri Nature Center
X-ORIGINAL-URL:https://www.massenanaturecenter.com
X-WR-CALDESC:Events for Nicandri Nature Center
BEGIN:VTIMEZONE
TZID:UTC
BEGIN:STANDARD
TZOFFSETFROM:+0000
TZOFFSETTO:+0000
TZNAME:UTC
DTSTART:20250101T000000
END:STANDARD
END:VTIMEZONE
BEGIN:VEVENT
DTSTART;TZID=UTC:20251116T100000
DTEND;TZID=UTC:20251116T113000
DTSTAMP:20260421T080609
CREATED:20251030T151122Z
LAST-MODIFIED:20251030T151122Z
UID:18517-1763287200-1763292600@www.massenanaturecenter.com
SUMMARY:Nature Photography
DESCRIPTION:Ages 16 and up
URL:https://www.massenanaturecenter.com/event/nature-photography/
LOCATION:Massena Nature Center\, 19 Robinson Bay Rd.\, Massena\, NY\, 13662\, United States
END:VEVENT
END:VCALENDAR