BEGIN:VCALENDAR
VERSION:2.0
PRODID:-//Nicandri Nature Center - ECPv5.7.0//NONSGML v1.0//EN
CALSCALE:GREGORIAN
METHOD:PUBLISH
X-WR-CALNAME:Nicandri Nature Center
X-ORIGINAL-URL:https://www.massenanaturecenter.com
X-WR-CALDESC:Events for Nicandri Nature Center
BEGIN:VTIMEZONE
TZID:UTC
BEGIN:STANDARD
TZOFFSETFROM:+0000
TZOFFSETTO:+0000
TZNAME:UTC
DTSTART:20250101T000000
END:STANDARD
END:VTIMEZONE
BEGIN:VEVENT
DTSTART;TZID=UTC:20251114T153000
DTEND;TZID=UTC:20251114T163000
DTSTAMP:20260421T050027
CREATED:20251030T150426Z
LAST-MODIFIED:20251030T150426Z
UID:18511-1763134200-1763137800@www.massenanaturecenter.com
SUMMARY:Fun Science - volcanoes
DESCRIPTION:
URL:https://www.massenanaturecenter.com/event/fun-science-volcanoes/
LOCATION:Massena Nature Center\, 19 Robinson Bay Rd.\, Massena\, NY\, 13662\, United States
END:VEVENT
END:VCALENDAR