BEGIN:VCALENDAR
VERSION:2.0
PRODID:-//Nicandri Nature Center - ECPv5.7.0//NONSGML v1.0//EN
CALSCALE:GREGORIAN
METHOD:PUBLISH
X-WR-CALNAME:Nicandri Nature Center
X-ORIGINAL-URL:https://www.massenanaturecenter.com
X-WR-CALDESC:Events for Nicandri Nature Center
BEGIN:VTIMEZONE
TZID:UTC
BEGIN:STANDARD
TZOFFSETFROM:+0000
TZOFFSETTO:+0000
TZNAME:UTC
DTSTART:20260101T000000
END:STANDARD
END:VTIMEZONE
BEGIN:VEVENT
DTSTART;TZID=UTC:20260425T140000
DTEND;TZID=UTC:20260425T150000
DTSTAMP:20260426T042419
CREATED:20260401T155824Z
LAST-MODIFIED:20260401T155824Z
UID:19072-1777125600-1777129200@www.massenanaturecenter.com
SUMMARY:Color Scavenger Hunt
DESCRIPTION:
URL:https://www.massenanaturecenter.com/event/color-scavenger-hunt-3/
LOCATION:Massena Nature Center\, 19 Robinson Bay Rd.\, Massena\, NY\, 13662\, United States
END:VEVENT
END:VCALENDAR