BEGIN:VCALENDAR
VERSION:2.0
PRODID:-//Nicandri Nature Center - ECPv5.7.0//NONSGML v1.0//EN
CALSCALE:GREGORIAN
METHOD:PUBLISH
X-WR-CALNAME:Nicandri Nature Center
X-ORIGINAL-URL:https://www.massenanaturecenter.com
X-WR-CALDESC:Events for Nicandri Nature Center
BEGIN:VTIMEZONE
TZID:UTC
BEGIN:STANDARD
TZOFFSETFROM:+0000
TZOFFSETTO:+0000
TZNAME:UTC
DTSTART:20260101T000000
END:STANDARD
END:VTIMEZONE
BEGIN:VEVENT
DTSTART;TZID=UTC:20260114T180000
DTEND;TZID=UTC:20260114T193000
DTSTAMP:20260422T220912
CREATED:20251231T211247Z
LAST-MODIFIED:20251231T211247Z
UID:18718-1768413600-1768419000@www.massenanaturecenter.com
SUMMARY:Board Meeting
DESCRIPTION:
URL:https://www.massenanaturecenter.com/event/board-meeting/
LOCATION:Massena Nature Center\, 19 Robinson Bay Rd.\, Massena\, NY\, 13662\, United States
END:VEVENT
END:VCALENDAR